BEGIN:VCALENDAR
VERSION:2.0
PRODID:-//eventon.com NONSGML v1.0//EN
CALSCALE:GREGORIAN
METHOD:PUBLISH
BEGIN:VEVENT
UID:69e7346d56f15
DTSTAMP:20260421T082517Z
DTSTART:20250411
DTEND:20250412
LOCATION:
SUMMARY:Férias da Páscoa | Jogo - Quem matou o Coelho da Páscoa... desta vez?
DESCRIPTION:Todo o dia Jogo - Quem matou o Coelho da Páscoa... desta vez? 
 Material Trazer roupa confortável e pequena mochila com lanche e água. De
 stinatários +6 anos Preços Geral s/ refeições: 20.00€Sócios Juniores
  s/ refeições: 18.00€Sócios + e 2+: 17.00€ Horário 9h30 - 17h30 Loc
 al Porto\nhttps://artividade.pt/events/ferias-da-pascoa-jogo-quem-matou-o-c
 oelho-da-pascoa-desta-vez/
URL:https://artividade.pt/events/ferias-da-pascoa-jogo-quem-matou-o-coelho-da-pascoa-desta-vez/
END:VEVENT
END:VCALENDAR